BEGIN:VCALENDAR
VERSION:2.0
PRODID:-//wp-events-plugin.com//7.2.3.1//EN
TZID:Europe/Vienna
X-WR-TIMEZONE:Europe/Vienna
BEGIN:VEVENT
UID:49@jazzfazz.eu
DTSTART;TZID=Europe/Vienna:20240914T150000
DTEND;TZID=Europe/Vienna:20240914T200000
DTSTAMP:20240903T064120Z
URL:http://jazzfazz.eu/events/herbstbeginn/
SUMMARY:Sommerausklang / Herbstbeginn
DESCRIPTION:Nach der Sommerpause wollen wir Euch\,\nwie angekündigt\,  vo
 n 15:00 bis 20:00 Uhr\nein kulinarisches Programm mit Musikhintergrund anb
 ieten:\n\nVor-\, Haupt- und Nachspeisen in Buffetform\nmit jeweiliger Wein
 begleitung\nGenussbeitrag: € 50.-\n\nDa wir maximal 40 Plätze haben\, b
 itten wir um  Anmeldung\n\nSollte das Wetter extrem unfreundlich werden\,
  müssen wir leider absagen!\nIn diesem Fall informieren wir Euch über Ma
 il\, schaut daher bitte im Zweifelsfall noch am Freitag davor in Euer Post
 fach :-)  danke!
ATTACH;FMTTYPE=image/jpeg:http://jazzfazz.eu/wp-content/uploads/2024/08/20
 23-09-10-10.45.03-scaled.jpg
END:VEVENT
BEGIN:VTIMEZONE
TZID:Europe/Vienna
X-LIC-LOCATION:Europe/Vienna
BEGIN:DAYLIGHT
DTSTART:20240331T030000
TZOFFSETFROM:+0100
TZOFFSETTO:+0200
TZNAME:CEST
END:DAYLIGHT
END:VTIMEZONE
END:VCALENDAR