BEGIN:VCALENDAR
VERSION:2.0
PRODID:-//wp-events-plugin.com//7.2.3.1//EN
TZID:Europe/Vienna
X-WR-TIMEZONE:Europe/Vienna
BEGIN:VEVENT
UID:48@jazzfazz.eu
DTSTART;TZID=Europe/Vienna:20240609T113000
DTEND;TZID=Europe/Vienna:20240609T150000
DTSTAMP:20240517T061529Z
URL:http://jazzfazz.eu/events/jazzbrunch-im-jazzfazz/
SUMMARY:JazzBrunch im JazzFazz - AUSVERKAUFT!!!
DESCRIPTION:Es gibt wieder Live-Musik im JazzFazz!Marcus Piringer &amp\; Fr
 iends werden uns durch den Sonntag begleitenschon ausverkauft!!Anmeldung b
 itte unter office@jazzfazz.eu
ATTACH;FMTTYPE=image/jpeg:http://jazzfazz.eu/wp-content/uploads/2024/04/20
 23-09-10-13.01.27-scaled.jpg
END:VEVENT
BEGIN:VTIMEZONE
TZID:Europe/Vienna
X-LIC-LOCATION:Europe/Vienna
BEGIN:DAYLIGHT
DTSTART:20240331T030000
TZOFFSETFROM:+0100
TZOFFSETTO:+0200
TZNAME:CEST
END:DAYLIGHT
END:VTIMEZONE
END:VCALENDAR